BEGIN:VCALENDAR
VERSION:2.0
PRODID:-//Plone.org//NONSGML plone.app.event//EN
X-WR-TIMEZONE:Europe/Berlin
BEGIN:VEVENT
SUMMARY:Invitation for NGOs and Media: Online Workshop on Societal Perspec
 tives on Direct Air Capture and CO₂ Storage (DACS)
DTSTART;TZID=Europe/Berlin:20250430T100000
DTEND;TZID=Europe/Berlin:20250430T120000
DTSTAMP:20260421T125048Z
UID:fa5cbfc885974b13a7952f66d6044c90@backend
CATEGORIES:TH,Other
CONTACT:https://events.teams.microsoft.com/event/54ff3fb5-b371-4dc6-94dc-5
 8baf7cdf7f5@3ef2a7a4-f288-4cea-b8fb-ff8b3e2a450b
CREATED:20250421T163159Z
LAST-MODIFIED:20250803T190510Z
LOCATION:Online
URL:https://www.dacstore-project.com/en/events/invitation-for-ngos-and-med
 ia
END:VEVENT
BEGIN:VTIMEZONE
TZID:Europe/Berlin
X-LIC-LOCATION:Europe/Berlin
BEGIN:DAYLIGHT
DTSTART:20250330T030000
TZNAME:CEST
TZOFFSETFROM:+0100
TZOFFSETTO:+0200
END:DAYLIGHT
END:VTIMEZONE
END:VCALENDAR
