BEGIN:VCALENDAR
VERSION:2.0
PRODID:-//Plone.org//NONSGML plone.app.event//EN
X-WR-TIMEZONE:Europe/Berlin
BEGIN:VEVENT
SUMMARY:Invitation for the Industry: Online Workshop on Societal Perspecti
 ves on Direct Air Capture and CO₂ Storage (DACS)
DTSTART;TZID=Europe/Berlin:20250507T130000
DTEND;TZID=Europe/Berlin:20250507T150000
DTSTAMP:20260421T124701Z
UID:aaf9fa9cf0f34de78a0c5b5ce3c0ecf4@backend
CATEGORIES:TH,Other
CONTACT:https://events.teams.microsoft.com/event/68b06394-3ff0-4533-887e-9
 1dbab4a1162@3ef2a7a4-f288-4cea-b8fb-ff8b3e2a450b
CREATED:20250421T163159Z
LAST-MODIFIED:20250803T190533Z
LOCATION:Online
URL:https://www.dacstore-project.com/en/events/invitation-for-industry
END:VEVENT
BEGIN:VTIMEZONE
TZID:Europe/Berlin
X-LIC-LOCATION:Europe/Berlin
BEGIN:DAYLIGHT
DTSTART:20250330T030000
TZNAME:CEST
TZOFFSETFROM:+0100
TZOFFSETTO:+0200
END:DAYLIGHT
END:VTIMEZONE
END:VCALENDAR
